BEGIN:VCALENDAR
VERSION:2.0
METHOD:PUBLISH
PRODID:-//Accessible Web Design//My Calendar//http://www.joedolson.com//v3.3.19//EN';
BEGIN:VEVENT
UID:68-56
LOCATION:
SUMMARY:Célébration Communautaire
DTSTAMP:20241201T100000
ORGANIZER;CN=Christel:MAILTO:dumas.christel@gmail.com
DTSTART:20241201T100000
DTEND:20241201T120000
CATEGORIES:célébrations
URL;VALUE=URI:
DESCRIPTION;ENCODING=QUOTED-PRINTABLE: 
END:VEVENT
END:VCALENDAR