BEGIN:VCALENDAR
VERSION:2.0
METHOD:PUBLISH
PRODID:-//Accessible Web Design//My Calendar//http://www.joedolson.com//v3.3.19//EN';
BEGIN:VEVENT
UID:58-47
LOCATION:
SUMMARY:Jeudi Saint
DTSTAMP:20240328T200000
ORGANIZER;CN=Christel:MAILTO:dumas.christel@gmail.com
DTSTART:20240328T200000
DTEND:20240328T213000
CATEGORIES:célébrations
URL;VALUE=URI:
DESCRIPTION;ENCODING=QUOTED-PRINTABLE:à 20h dans la chapelle 
END:VEVENT
END:VCALENDAR