BEGIN:VCALENDAR
VERSION:2.0
METHOD:PUBLISH
PRODID:-//Accessible Web Design//My Calendar//http://www.joedolson.com//v3.3.19//EN';
BEGIN:VEVENT
UID:52-42
LOCATION:
SUMMARY:réunion de parents pour la catéchèse
DTSTAMP:20231105T090000
ORGANIZER;CN=Christel:MAILTO:dumas.christel@gmail.com
DTSTART:20231105T090000
DTEND:20231105T100000
CATEGORIES:célébrations
URL;VALUE=URI:
DESCRIPTION;ENCODING=QUOTED-PRINTABLE: 
END:VEVENT
END:VCALENDAR