BEGIN:VCALENDAR
VERSION:2.0
METHOD:PUBLISH
PRODID:-//Accessible Web Design//My Calendar//http://www.joedolson.com//v3.3.19//EN';
BEGIN:VEVENT
UID:5-4
LOCATION:Eglise St Esprit Avenue Docteur Lemoine 13  Anderlecht  1070
SUMMARY:Mercredi des cendres
DTSTAMP:20220302T170000
ORGANIZER;CN=David Dumas:MAILTO:dumas.david@gmail.com
DTSTART:20220302T170000
DTEND:20220302T180000
CATEGORIES:célébrations
URL;VALUE=URI:
DESCRIPTION;ENCODING=QUOTED-PRINTABLE:Mercredi 2 Mars à 17h, pour entamer le carême 
END:VEVENT
END:VCALENDAR