BEGIN:VCALENDAR
VERSION:2.0
METHOD:PUBLISH
PRODID:-//Accessible Web Design//My Calendar//http://www.joedolson.com//v3.3.19//EN';
BEGIN:VEVENT
UID:61-50
LOCATION:Eglise St Esprit Avenue Docteur Lemoine 13  Anderlecht  1070
SUMMARY:Célébration du 14 avril
DTSTAMP:20240414T100000
ORGANIZER;CN=Christel:MAILTO:dumas.christel@gmail.com
DTSTART:20240414T100000
DTEND:20240414T120000
CATEGORIES:célébrations
URL;VALUE=URI:
DESCRIPTION;ENCODING=QUOTED-PRINTABLE: 
END:VEVENT
END:VCALENDAR