BEGIN:VCALENDAR
VERSION:2.0
METHOD:PUBLISH
PRODID:-//Accessible Web Design//My Calendar//http://www.joedolson.com//v3.3.19//EN';
BEGIN:VEVENT
UID:22-14
LOCATION:
SUMMARY:Célébration de Noël
DTSTAMP:20221224T180000
ORGANIZER;CN=Christel:MAILTO:dumas.christel@gmail.com
DTSTART:20221224T180000
DTEND:20221224T190000
CATEGORIES:célébrations
URL;VALUE=URI:
DESCRIPTION;ENCODING=QUOTED-PRINTABLE:Célébration de Noël à 18h dans l’église du St Esprit. Porte ouverte chez Nathalie et Vincent après (apportez de quoi boire et grignoter). 
END:VEVENT
END:VCALENDAR