BEGIN:VCALENDAR
VERSION:2.0
METHOD:PUBLISH
PRODID:-//Accessible Web Design//My Calendar//http://www.joedolson.com//v3.3.19//EN';
BEGIN:VEVENT
UID:9-8
LOCATION:Eglise St Esprit Avenue Docteur Lemoine 13  Anderlecht  1070
SUMMARY:Retraite des jeunes à Quartier Gallet
DTSTAMP:20220429T161500
ORGANIZER;CN=David Dumas:MAILTO:dumas.david@gmail.com
DTSTART:20220429T161500
DTEND:20220501T121500
CATEGORIES:célébrations
URL;VALUE=URI:
DESCRIPTION;ENCODING=QUOTED-PRINTABLE:La retraite a lieu à Quartier Gallet près de Beauraing.Les rendez-vous de départ et de retour sont au dessus de l'église (Av. Dr Lemoine) 
END:VEVENT
END:VCALENDAR