BEGIN:VCALENDAR
VERSION:2.0
METHOD:PUBLISH
PRODID:-//Accessible Web Design//My Calendar//http://www.joedolson.com//v3.3.19//EN';
BEGIN:VEVENT
UID:79-67
LOCATION:
SUMMARY:Laudato Si, Chemins d’espérance” du 30 novembre, avec Gaël Giraud, sj, pour entrer en Avent.
DTSTAMP:20241130T200000
ORGANIZER;CN=Christel:MAILTO:dumas.christel@gmail.com
DTSTART:20241130T200000
DTEND:20241130T223000
CATEGORIES:célébrations
URL;VALUE=URI:
DESCRIPTION;ENCODING=QUOTED-PRINTABLE:Toutes les infos ici. Programme9h30 Accueil10h Gaël Giraud - quels signesd’espérance aujourd’hui11h Témoignages contemporains –quelles mobilisations ?12h Repas offert13h Gaël Giraud – comment tournernotre prière vers l’espérance ?13h30 Temps de prière et de balade14h30 Temps de partage15h Remontées et louange finale16h Fin de la journéeLieu : Village Sainte Anne Place de la Vaillance15AInscription gratuite et souhaitée :notreterre1070@gmail.com 
END:VEVENT
END:VCALENDAR