BEGIN:VCALENDAR
VERSION:2.0
METHOD:PUBLISH
PRODID:-//Accessible Web Design//My Calendar//http://www.joedolson.com//v3.3.19//EN';
BEGIN:VEVENT
UID:7-6
LOCATION:Salle Concordia rue d’Aumale 11  Anderlecht  1070
SUMMARY:Accueil des réfugiés d’Ukraine
DTSTAMP:20220326T140000
ORGANIZER;CN=David Dumas:MAILTO:dumas.david@gmail.com
DTSTART:20220326T140000
DTEND:20220326T153000
CATEGORIES:General
URL;VALUE=URI:
DESCRIPTION;ENCODING=QUOTED-PRINTABLE:De nombreuses personnes souhaitent aider les réfugiés d’Ukraine. Pour que cette aide soit efficace, elle doit être coordonnée. En vue de la mise en place d’une équipe coordonnée d’accueil global (logement, accompagnement dans les démarches, langue, loisirs, repas…) pour l’unité pastorale, une réunion pour les personnes qui veulent s’impliquer aura lieu le samedi 26 mars à 14h à Concordia, rue d’Aumale 11. 
END:VEVENT
END:VCALENDAR