BEGIN:VCALENDAR
VERSION:2.0
METHOD:PUBLISH
PRODID:-//Accessible Web Design//My Calendar//http://www.joedolson.com//v3.3.19//EN';
BEGIN:VEVENT
UID:6-5
LOCATION:Communauté des Béatitudes Rue du Fourneau 10  Walcourt  5651
SUMMARY:Retraite spirituelle de la communauté
DTSTAMP:20221014T180000
ORGANIZER;CN=David Dumas:MAILTO:dumas.david@gmail.com
DTSTART:20221014T180000
DTEND:20221016T150000
CATEGORIES:General
URL;VALUE=URI:
DESCRIPTION;ENCODING=QUOTED-PRINTABLE:Le thème : Le livre des ProverbesL’orateur Guy Dermond, prêtre salésien 
END:VEVENT
END:VCALENDAR