BEGIN:VCALENDAR
VERSION:2.0
METHOD:PUBLISH
PRODID:-//Accessible Web Design//My Calendar//http://www.joedolson.com//v3.3.19//EN';
BEGIN:VEVENT
UID:46-36
LOCATION:
SUMMARY:chemin d'appropriation de l'encyclique Laudato sì
DTSTAMP:20231113T200000
ORGANIZER;CN=Christel:MAILTO:dumas.christel@gmail.com
DTSTART:20231113T200000
DTEND:20231113T223000
CATEGORIES:célébrations
URL;VALUE=URI:
DESCRIPTION;ENCODING=QUOTED-PRINTABLE: 
END:VEVENT
END:VCALENDAR