BEGIN:VCALENDAR
VERSION:2.0
METHOD:PUBLISH
PRODID:-//Accessible Web Design//My Calendar//http://www.joedolson.com//v3.3.19//EN';
BEGIN:VEVENT
UID:34-26
LOCATION:
SUMMARY:Célébration avec les malades à Erasme
DTSTAMP:20230319T090000
ORGANIZER;CN=Christel:MAILTO:dumas.christel@gmail.com
DTSTART:20230319T090000
DTEND:20230319T110000
CATEGORIES:célébrations
URL;VALUE=URI:
DESCRIPTION;ENCODING=QUOTED-PRINTABLE: 
END:VEVENT
END:VCALENDAR