BEGIN:VCALENDAR
VERSION:2.0
METHOD:PUBLISH
PRODID:-//Accessible Web Design//My Calendar//http://www.joedolson.com//v3.3.19//EN';
BEGIN:VEVENT
UID:2-2
LOCATION:Eglise St Esprit Avenue Docteur Lemoine 13  Anderlecht  1070
SUMMARY:Dimanche Autrement 20 février
DTSTAMP:20220220T090000
ORGANIZER;CN=David Dumas:MAILTO:dumas.david@gmail.com
DTSTART:20220220T090000
DTEND:20220220T120000
CATEGORIES:célébrations
URL;VALUE=URI:
DESCRIPTION;ENCODING=QUOTED-PRINTABLE:Rendez-vous le 3ème dimanche de février pour notre prochain dimanche autrement: catéchèse pour tous les âges, et célébration de ce qui nous rassemble. Petit déjeuner à 9h, ateliers et célébration de 10h à 12h. 
END:VEVENT
END:VCALENDAR