BEGIN:VCALENDAR
VERSION:2.0
METHOD:PUBLISH
PRODID:-//Accessible Web Design//My Calendar//http://www.joedolson.com//v3.3.19//EN';
BEGIN:VEVENT
UID:18-10
LOCATION:Forum Saint-Michel  Bd Saint Michel, 24  Bruxelles  1040
SUMMARY:Parcours d’écospiritualité
DTSTAMP:20220913T193000
ORGANIZER;CN=David Dumas:MAILTO:dumas.david@gmail.com
DTSTART:20220913T193000
DTEND:20220913T220000
CATEGORIES:célébrations
URL;VALUE=URI:
DESCRIPTION;ENCODING=QUOTED-PRINTABLE:Des Arbres qui marchent est une série vidéo qui propose de remonter aux racines de la situation écologique, et de questionner le sens, dans ses dimensions psychologiques, philosophiques et spirituelles. L’objectif n’est pas de donner des réponses, ni d’affirmer des vérités, mais d’initier des changements de regard, de mettre la pensée en mouvement, de susciter la réflexion personnelle et collective.Le Centre Avec et le Forum Saint-Michel vous proposent un parcours pour découvrir la série, et pour dialoguer avec d’autres à propos des questions soulevées par les vidéos. 	Où : au Forum Saint-Michel, Bd Saint Michel, 24 à 1040 Bruxelles. 	Quand : de 19h30 à 22h00 les mardis 13 septembre, 04 et 25 octobre, 15 et 29 novembre et le mercredi 14 décembre 2022. Le 14 décembre, rencontre et dialogue avec le réalisateur, Pierre-Paul Renders. 	P.A.F. libre 	Inscription obligatoire avant le 12 septembre 
END:VEVENT
END:VCALENDAR